BEGIN:VCALENDAR
VERSION:2.0
PRODID:-//Rengetsweiler - ECPv6.15.20//NONSGML v1.0//EN
CALSCALE:GREGORIAN
METHOD:PUBLISH
X-ORIGINAL-URL:https://www.rengetsweiler.de
X-WR-CALDESC:Veranstaltungen für Rengetsweiler
REFRESH-INTERVAL;VALUE=DURATION:PT1H
X-Robots-Tag:noindex
X-PUBLISHED-TTL:PT1H
BEGIN:VTIMEZONE
TZID:Europe/Berlin
BEGIN:DAYLIGHT
TZOFFSETFROM:+0100
TZOFFSETTO:+0200
TZNAME:CEST
DTSTART:20210328T010000
END:DAYLIGHT
BEGIN:STANDARD
TZOFFSETFROM:+0200
TZOFFSETTO:+0100
TZNAME:CET
DTSTART:20211031T010000
END:STANDARD
BEGIN:DAYLIGHT
TZOFFSETFROM:+0100
TZOFFSETTO:+0200
TZNAME:CEST
DTSTART:20220327T010000
END:DAYLIGHT
BEGIN:STANDARD
TZOFFSETFROM:+0200
TZOFFSETTO:+0100
TZNAME:CET
DTSTART:20221030T010000
END:STANDARD
BEGIN:DAYLIGHT
TZOFFSETFROM:+0100
TZOFFSETTO:+0200
TZNAME:CEST
DTSTART:20230326T010000
END:DAYLIGHT
BEGIN:STANDARD
TZOFFSETFROM:+0200
TZOFFSETTO:+0100
TZNAME:CET
DTSTART:20231029T010000
END:STANDARD
END:VTIMEZONE
BEGIN:VEVENT
DTSTART;TZID=Europe/Berlin:20220122T130000
DTEND;TZID=Europe/Berlin:20220123T020000
DTSTAMP:20260421T120656
CREATED:20191005T162656Z
LAST-MODIFIED:20220917T054837Z
UID:1840-1642856400-1642903200@www.rengetsweiler.de
SUMMARY:ABGESAGT: Großes Narrentreffen
DESCRIPTION:  \n\n\n\n\n\n\n\n\n\n\n\n\n\n 
URL:https://www.rengetsweiler.de/event/grosses-narrentreffen/
LOCATION:Randenhalle Rengetsweiler\, Oberdorfstraße 1\, Meßkirch\, 88605\, Deutschland
ATTACH;FMTTYPE=image/jpeg:https://www.rengetsweiler.de/wp-content/uploads/2019/10/Randenmale-Header-1.jpg
END:VEVENT
END:VCALENDAR