BEGIN:VCALENDAR
VERSION:2.0
PRODID:-//Rengetsweiler - ECPv6.15.20//NONSGML v1.0//EN
CALSCALE:GREGORIAN
METHOD:PUBLISH
X-WR-CALNAME:Rengetsweiler
X-ORIGINAL-URL:https://www.rengetsweiler.de
X-WR-CALDESC:Veranstaltungen für Rengetsweiler
REFRESH-INTERVAL;VALUE=DURATION:PT1H
X-Robots-Tag:noindex
X-PUBLISHED-TTL:PT1H
BEGIN:VTIMEZONE
TZID:Europe/Berlin
BEGIN:DAYLIGHT
TZOFFSETFROM:+0100
TZOFFSETTO:+0200
TZNAME:CEST
DTSTART:20220327T010000
END:DAYLIGHT
BEGIN:STANDARD
TZOFFSETFROM:+0200
TZOFFSETTO:+0100
TZNAME:CET
DTSTART:20221030T010000
END:STANDARD
BEGIN:DAYLIGHT
TZOFFSETFROM:+0100
TZOFFSETTO:+0200
TZNAME:CEST
DTSTART:20230326T010000
END:DAYLIGHT
BEGIN:STANDARD
TZOFFSETFROM:+0200
TZOFFSETTO:+0100
TZNAME:CET
DTSTART:20231029T010000
END:STANDARD
BEGIN:DAYLIGHT
TZOFFSETFROM:+0100
TZOFFSETTO:+0200
TZNAME:CEST
DTSTART:20240331T010000
END:DAYLIGHT
BEGIN:STANDARD
TZOFFSETFROM:+0200
TZOFFSETTO:+0100
TZNAME:CET
DTSTART:20241027T010000
END:STANDARD
BEGIN:DAYLIGHT
TZOFFSETFROM:+0100
TZOFFSETTO:+0200
TZNAME:CEST
DTSTART:20250330T010000
END:DAYLIGHT
BEGIN:STANDARD
TZOFFSETFROM:+0200
TZOFFSETTO:+0100
TZNAME:CET
DTSTART:20251026T010000
END:STANDARD
BEGIN:DAYLIGHT
TZOFFSETFROM:+0100
TZOFFSETTO:+0200
TZNAME:CEST
DTSTART:20260329T010000
END:DAYLIGHT
BEGIN:STANDARD
TZOFFSETFROM:+0200
TZOFFSETTO:+0100
TZNAME:CET
DTSTART:20261025T010000
END:STANDARD
BEGIN:DAYLIGHT
TZOFFSETFROM:+0100
TZOFFSETTO:+0200
TZNAME:CEST
DTSTART:20270328T010000
END:DAYLIGHT
BEGIN:STANDARD
TZOFFSETFROM:+0200
TZOFFSETTO:+0100
TZNAME:CET
DTSTART:20271031T010000
END:STANDARD
END:VTIMEZONE
BEGIN:VEVENT
DTSTART;TZID=Europe/Berlin:20260418T143000
DTEND;TZID=Europe/Berlin:20260419T010000
DTSTAMP:20260421T070049
CREATED:20260315T181104Z
LAST-MODIFIED:20260315T181104Z
UID:5622-1776522600-1776560400@www.rengetsweiler.de
SUMMARY:Anknattern
DESCRIPTION:Das Anknattern ist ein Oldtimer\, Moped- und Mofa Treffen\, mit kleiner Ausfahrt. Bei diesem Event treffen sich Moped-Liebhaber\, welche ihr 50ccm-Schätzchen aus dem Winterschlaf geholt haben\, oder ihr liebevoll im Winter restauriertes Schmuckstück präsentieren möchten. \n\n\nIm letzten Jahr waren es über 200 Mopeds. Das Spektakel wurde vom SWR-Fernsehen begleitet und in der Sendung „Treffpunkt“ ausgestrahlt. \nNatürlich darf man auch ohne Zweirad kommen\, die Mopeds einfach nur bestaunen und sich die Nasenhaare vom Zweitaktduft streicheln lassen. \nBeim Start zur kleinen Ausfahrt kann man dann den blauen Dunst in Form einer Schlange hinter jedem Auspuffrohr sehen\, welcher den „Blue Snakes“ den Namen gab. \nBei gutem Wetter haben Moped-Liebhaber auch die Möglichkeit\, das Geknatter durch die Messkircher Hauptstraße\, live mit zu erleben (ca.15:30 Uhr) \n  \n14:00 Uhr\, Eintreffen der Mopeds/Mofas & Fassanstich \n15:00 Uhr\, Start zur traditionellen Knattertour (ca. 20km / 1\,5Std). Während die mopedlosen Gäste auf die Rückkehr der Helden warten\, wird natürlich weiterhin bewirtet. \n17:00 Uhr\, Knatterparty mit Bier\, Bratwurst und Barbetrieb / DJ Tyre / Burnout-Platte / Beheiztes Festzelt\, Eintritt frei
URL:https://www.rengetsweiler.de/event/anknattern/
LOCATION:Sportgelände Rengetsweiler\, Randenstraße 25\, Meßkirch\, Baden-Württemberg\, 88605\, Deutschland
END:VEVENT
BEGIN:VEVENT
DTSTART;TZID=Europe/Berlin:20260214T183000
DTEND;TZID=Europe/Berlin:20260215T020000
DTSTAMP:20260421T070049
CREATED:20260128T181815Z
LAST-MODIFIED:20260128T182654Z
UID:5562-1771093800-1771120800@www.rengetsweiler.de
SUMMARY:Randenball 2026
DESCRIPTION:
URL:https://www.rengetsweiler.de/event/randenball-2026/
LOCATION:Randenhalle Rengetsweiler\, Oberdorfstraße 1\, Meßkirch\, 88605\, Deutschland
END:VEVENT
BEGIN:VEVENT
DTSTART;TZID=Europe/Berlin:20260212T080000
DTEND;TZID=Europe/Berlin:20260212T230000
DTSTAMP:20260421T070049
CREATED:20260128T181748Z
LAST-MODIFIED:20260128T182626Z
UID:5559-1770883200-1770937200@www.rengetsweiler.de
SUMMARY:Schmotzige Dunnschtig
DESCRIPTION:
URL:https://www.rengetsweiler.de/event/schmotzige-dunnschtig-2/
LOCATION:Randenhalle Rengetsweiler\, Oberdorfstraße 1\, Meßkirch\, 88605\, Deutschland
END:VEVENT
BEGIN:VEVENT
DTSTART;TZID=Europe/Berlin:20251123T110000
DTEND;TZID=Europe/Berlin:20251123T170000
DTSTAMP:20260421T070049
CREATED:20251028T060440Z
LAST-MODIFIED:20251028T060511Z
UID:5460-1763895600-1763917200@www.rengetsweiler.de
SUMMARY:Weihnachtszauber auf dem Walderhof
DESCRIPTION:WEIHNACHTSZAUBER\nAUF DEM WALDERHOF IN RENGETSWEILER \nKulinarisch verwöhnt Euch \n\ndie Randenmale Rengetsweiler mit Glühwein\, Punsch und Waffeln\,\ndie Landjugend Rengetsweiler mit Würstle und Getränken\,\ndas Team vom Walderhof mit Kaffee\, Kuchen und Pommes!\n\nEs erwartet Euch eine große Auswahl an unterschiedlichen Verkaufsständen mit tollen Produkten\, wie \n\nwohltuender Magnetschmuck\,\nwunderbare Handwerkskunst\,\nschöne Weihnachtsdeko\,\nleckere Liköre\,\n\n…und noch mehr! \nAußerdem \n\nvon 14.00 Uhr bis 15.00 Uhr Ponyreiten\num 15.15 Uhr kommt der Nikolaus\n\nNeu: große Weihnachtstombola für den guten Zweck \nKommt und genießt das weihnachtliche Flair!
URL:https://www.rengetsweiler.de/event/weihnachtszauber-auf-dem-walderhof-2/
LOCATION:Walderhof Rengetsweiler\, Waldergasse 15\, Meßkirch\, 88605\, Deutschland
END:VEVENT
BEGIN:VEVENT
DTSTART;TZID=Europe/Berlin:20251116T130000
DTEND;TZID=Europe/Berlin:20251116T170000
DTSTAMP:20260421T070049
CREATED:20251028T060815Z
LAST-MODIFIED:20251028T062724Z
UID:5465-1763298000-1763312400@www.rengetsweiler.de
SUMMARY:Weihnachtsflohmarkt
DESCRIPTION:Alles rund um Weihnachten\, ob Weihnachtsdeko\, selbst Gebackenes oder selbst Gebasteltes \nVerkauf von Kaffee\, Glühwein\, Punsch und frischen Waffeln durch die Landjugend Rengetsweiler / Dietershofen \nTischreservierungen unter 0152/3470 2312 (gerne auch WhatsApp)\nTischpreis: 5 Euro \nin der Randenhalle Rengetsweiler\nam Sonntag\, den 16. November 2025\nvon 13.00 Uhr bis 17.00 Uhr
URL:https://www.rengetsweiler.de/event/weihnachtsflohmarkt/
LOCATION:Randenhalle Rengetsweiler\, Oberdorfstraße 1\, Meßkirch\, 88605\, Deutschland
END:VEVENT
BEGIN:VEVENT
DTSTART;TZID=Europe/Berlin:20251011T080000
DTEND;TZID=Europe/Berlin:20251011T120000
DTSTAMP:20260421T070049
CREATED:20250526T061446Z
LAST-MODIFIED:20250526T061446Z
UID:5343-1760169600-1760184000@www.rengetsweiler.de
SUMMARY:Altpapiersammlung der KLJB Dietershofen Rengetsweiler
DESCRIPTION:Die Landjugend Rengetsweiler sammelt in diesem Jahr an den folgenden Terminen Altpapier: \n26.04.2025 \n11.10.2025 \nÜber die Unterstützung durch Ihr Altpapier freut sich die Landjugend sehr.
URL:https://www.rengetsweiler.de/event/altpapiersammlung-der-kljb-dietershofen-rengetsweiler/
END:VEVENT
BEGIN:VEVENT
DTSTART;TZID=Europe/Berlin:20250831T140000
DTEND;TZID=Europe/Berlin:20250831T190000
DTSTAMP:20260421T070049
CREATED:20250703T070649Z
LAST-MODIFIED:20250703T070649Z
UID:5377-1756648800-1756666800@www.rengetsweiler.de
SUMMARY:Volleyball-Turnier
DESCRIPTION:Die KLJB Dietershofen Rengetsweiler veranstaltet am 31. August 2025 wieder ihr traditionelles Volleyball-Turnier. Alle sind herzlich eingeladen.
URL:https://www.rengetsweiler.de/event/volleyball-turnier-3/
LOCATION:Volleyballfeld Rengetsweiler\, Kirchleäcker\, Meßkirch\, 88605\, Deutschland
END:VEVENT
BEGIN:VEVENT
DTSTART;TZID=Europe/Berlin:20250719T160000
DTEND;TZID=Europe/Berlin:20250719T230000
DTSTAMP:20260421T070049
CREATED:20250625T090743Z
LAST-MODIFIED:20250625T090743Z
UID:5369-1752940800-1752966000@www.rengetsweiler.de
SUMMARY:FV WA/RE ELFmeterturnier
DESCRIPTION:Elfmeterturnier des FV Walbertsweiler / Rengetsweiler
URL:https://www.rengetsweiler.de/event/fv-wa-re-elfmeterturnier/
LOCATION:Sportgelände Rengetsweiler\, Randenstraße 25\, Meßkirch\, Baden-Württemberg\, 88605\, Deutschland
END:VEVENT
BEGIN:VEVENT
DTSTART;TZID=Europe/Berlin:20250718T193000
DTEND;TZID=Europe/Berlin:20250718T220000
DTSTAMP:20260421T070049
CREATED:20250703T070916Z
LAST-MODIFIED:20250703T070916Z
UID:5380-1752867000-1752876000@www.rengetsweiler.de
SUMMARY:Offene Musikprobe
DESCRIPTION:Die Rengetsweiler Musikanten laden am Freitag\, den 18. Juli 2025 um 19.30 Uhr zur „Offenen Musikprobe“ ein. Die KLJB Rengetsweiler sorgt für kühle Getränke und Wurstsalat.
URL:https://www.rengetsweiler.de/event/offene-musikprobe/
LOCATION:Gelbes Schulhaus
END:VEVENT
BEGIN:VEVENT
DTSTART;TZID=Europe/Berlin:20250705T190000
DTEND;TZID=Europe/Berlin:20250705T230000
DTSTAMP:20260421T070049
CREATED:20250625T085909Z
LAST-MODIFIED:20250625T090013Z
UID:5365-1751742000-1751756400@www.rengetsweiler.de
SUMMARY:Rengetsweiler Open Air
DESCRIPTION:Musik\, Stimmung & Sommerfeeling pur!\n \nLive on Stage:\n\nDelta Zero\nCrossFire\n\nVorverkauf: 8 € (Volksbank Wald) Abendkasse: 10 €\n \nSei dabei – das wird legendär!
URL:https://www.rengetsweiler.de/event/rengetsweiler-open-air/
LOCATION:Sportgelände Rengetsweiler\, Randenstraße 25\, Meßkirch\, Baden-Württemberg\, 88605\, Deutschland
END:VEVENT
BEGIN:VEVENT
DTSTART;TZID=Europe/Berlin:20250615T130000
DTEND;TZID=Europe/Berlin:20250615T170000
DTSTAMP:20260421T070049
CREATED:20250513T151436Z
LAST-MODIFIED:20250513T151617Z
UID:5330-1749992400-1750006800@www.rengetsweiler.de
SUMMARY:Tag der Offenen Gärten
DESCRIPTION:Bereits zum vierten Mal findet am Sonntag\, 15. Juni 2025 in Rengetsweiler der „Tag der Offenen Gärten“ statt. Mehr Infos folgen demnächst.
URL:https://www.rengetsweiler.de/event/tag-der-offenen-gaerten-3/
LOCATION:Café im Grünen\, Am Jordanbach 2\, Meßkirch\, 88605\, Deutschland
ATTACH;FMTTYPE=image/jpeg:https://www.rengetsweiler.de/wp-content/uploads/2022/06/tag_der_offenen_gaerten.jpg
ORGANIZER;CN="Caf%C3%A9 im Gr%C3%BCnen":MAILTO:uli-loeffler@t-online.de
END:VEVENT
BEGIN:VEVENT
DTSTART;TZID=Europe/Berlin:20250614T180000
DTEND;TZID=Europe/Berlin:20250614T230000
DTSTAMP:20260421T070049
CREATED:20250601T060152Z
LAST-MODIFIED:20250601T060152Z
UID:5354-1749924000-1749942000@www.rengetsweiler.de
SUMMARY:Jubiläumsparty Motorradfreunde Rengetsweiler
DESCRIPTION:Die Motorradfreunde Rengetsweiler wollen ab 18.00 Uhr beim Sportplatz Rengetsweiler mit Euch zusammen feiern. \nGemütliches Beisammensein mit Musik und netten Gesprächen rund ums Lagerfeuer. Zeltplätze vorhanden. \nWir freuen uns über jeden der kommt!\nEhemalige Weggefährten\, Gründungsmitglieder\, Gönner\, Anwohner\, Freunde\, Veteranen\, Rentner\, Party-Schweine\, … \n 
URL:https://www.rengetsweiler.de/event/jubilaeumsparty-motorradfreunde-rengetsweiler/
LOCATION:Sportgelände Rengetsweiler\, Randenstraße 25\, Meßkirch\, Baden-Württemberg\, 88605\, Deutschland
END:VEVENT
BEGIN:VEVENT
DTSTART;TZID=Europe/Berlin:20250510T180000
DTEND;TZID=Europe/Berlin:20250511T220000
DTSTAMP:20260421T070049
CREATED:20250425T160500Z
LAST-MODIFIED:20250425T160500Z
UID:5291-1746900000-1747000800@www.rengetsweiler.de
SUMMARY:57. Rengetsweiler Waldfest
DESCRIPTION:   \n 
URL:https://www.rengetsweiler.de/event/57-rengetsweiler-waldfest/
LOCATION:Randenhalle Rengetsweiler\, Oberdorfstraße 1\, Meßkirch\, 88605\, Deutschland
END:VEVENT
BEGIN:VEVENT
DTSTART;TZID=Europe/Berlin:20250430T183000
DTEND;TZID=Europe/Berlin:20250430T210000
DTSTAMP:20260421T070049
CREATED:20250425T155944Z
LAST-MODIFIED:20250425T160530Z
UID:5289-1746037800-1746046800@www.rengetsweiler.de
SUMMARY:Maibaumstellen
DESCRIPTION:Maibaumstellen mit anschließendem gemütlichen Hock\nim Feuerwehrhaus am Mittwoch\, 30. April 2025 um 18.30 Uhr \nStellen des Maibaums durch die Freiwillige Feuerwehr Rengetsweiler.\nMusikalische Umrahmung durch die Rengetsweiler Musikanten.\nFür das leibliche Wohl mit Essen und Getränken ist gesorgt.
URL:https://www.rengetsweiler.de/event/maibaumstellen-3/
LOCATION:Feuerwehrhaus Rengetsweiler
END:VEVENT
BEGIN:VEVENT
DTSTART;TZID=Europe/Berlin:20250301T183000
DTEND;TZID=Europe/Berlin:20250301T233000
DTSTAMP:20260421T070049
CREATED:20250215T121750Z
LAST-MODIFIED:20250215T121750Z
UID:5227-1740853800-1740871800@www.rengetsweiler.de
SUMMARY:Randenball
DESCRIPTION:Unter dem Motto „Circus Randenball“ veranstalten die Randenmale Rengetsweiler wie jedes Jahr ihren Randenball am Fasnetsamstag\, den 01. März 2025 in der Randenhalle Rengetsweiler. \n  \nEinlass ist um 18.30 Uhr\, das Programm startet um 19.30 Uhr. \nIm Anschluss an das Programm findet die legendäre After-Show Party statt.
URL:https://www.rengetsweiler.de/event/randenball/
LOCATION:Randenhalle Rengetsweiler\, Oberdorfstraße 1\, Meßkirch\, 88605\, Deutschland
END:VEVENT
BEGIN:VEVENT
DTSTART;TZID=Europe/Berlin:20250227T080000
DTEND;TZID=Europe/Berlin:20250227T220000
DTSTAMP:20260421T070049
CREATED:20250215T122130Z
LAST-MODIFIED:20250215T122130Z
UID:5231-1740643200-1740693600@www.rengetsweiler.de
SUMMARY:Schmotzige Dunnschtig
DESCRIPTION:Am Schmotzige Dunnschtig starten die Randenmale in die diesjährige Dorffasnet. Zum Narrenfrühstück laden die Narren ab 08.00 Uhr in die Randenhalle ein. \nUm 09.30 Uhr findet die Befreitung der Kindergartenkinder statt. Im Anschluss daran gibt es närrisches Treiben in der Randenhalle. \nZum Mittagessen ab 11.30 Uhr gibt es Randensuppe \nUm 15.00 Uhr wird der Narrenbaum von der Freiwilligen Feuerwehr Rengetsweiler unter musikalischer Begleitung der Rengetsweiler Musikanten aufgestellt. Im Anschluss gibt es Kaffeekränzle und Bewirtung in der Randenhalle. \nUm 18.00 Uhr startet dann der Hemdglonkerumzug mit der KLJB Dietershofen-Rengetsweiler vor der Halle.
URL:https://www.rengetsweiler.de/event/schmotzige-dunnschtig/
LOCATION:Randenhalle Rengetsweiler\, Oberdorfstraße 1\, Meßkirch\, 88605\, Deutschland
END:VEVENT
BEGIN:VEVENT
DTSTART;TZID=Europe/Berlin:20241124T110000
DTEND;TZID=Europe/Berlin:20241124T170000
DTSTAMP:20260421T070049
CREATED:20241017T182846Z
LAST-MODIFIED:20241017T183050Z
UID:5105-1732446000-1732467600@www.rengetsweiler.de
SUMMARY:Weihnachtszauber auf dem Walderhof
DESCRIPTION:WEIHNACHTSZAUBER\nAUF DEM WALDERHOF IN RENGETSWEILER \nKulinarisch verwöhnt Euch \n\ndie Randenmale Rengetsweiler mit Glühwein\, Punsch und Waffeln\,\ndie Landjugend Rengetsweiler mit Würstle und Getränken\,\ndas Team vom Walderhof mit Kaffee\, Kuchen und Pommes!\n\nEs erwartet Euch eine große Auswahl an unterschiedlichen Verkaufsständen mit tollen Produkten\, wie \n\nwohltuender Magnetschmuck\,\nflauschiges Alpakazubehör\,\nwunderbare Handwerkskunst\,\nschöne Weihnachtsdeko\,\nleckere Liköre\,\n\n…und noch mehr! \nAußerdem \n\nvon 14.00 Uhr bis 15.00 Uhr Ponyreiten\num 15.15 Uhr kommt der Nikolaus\n\nKommt und genießt das weihnachtliche Flair!
URL:https://www.rengetsweiler.de/event/weihnachtszauber-auf-dem-walderhof/
LOCATION:Walderhof Rengetsweiler\, Waldergasse 15\, Meßkirch\, 88605\, Deutschland
END:VEVENT
BEGIN:VEVENT
DTSTART;TZID=Europe/Berlin:20241005T080000
DTEND;TZID=Europe/Berlin:20241005T170000
DTSTAMP:20260421T070049
CREATED:20240315T205203Z
LAST-MODIFIED:20240315T205203Z
UID:4809-1728115200-1728147600@www.rengetsweiler.de
SUMMARY:Altpapiersammlung der KLJB Dietershofen Rengetsweiler
DESCRIPTION:
URL:https://www.rengetsweiler.de/event/altpapiersammlung-der-kljb-dietershofen-rengetsweiler-2/
END:VEVENT
BEGIN:VEVENT
DTSTART;TZID=Europe/Berlin:20240824T143000
DTEND;TZID=Europe/Berlin:20240824T220000
DTSTAMP:20260421T070049
CREATED:20240812T055604Z
LAST-MODIFIED:20240812T055604Z
UID:5052-1724509800-1724536800@www.rengetsweiler.de
SUMMARY:Volleyball-Turnier
DESCRIPTION:Am 24. August findet das tranditionelle Volleyball-Turnier der KLJB Dietershofen-Rengetsweiler statt. Los geht es um 14:30 Uhr mit Kaffee und Kuchen. Um 15.00 Uhr startet dann das Spiel Oberdorf gegen Unterdorf. \nAb 17.00 Uhr startet dann der Feierabendhock.
URL:https://www.rengetsweiler.de/event/volleyball-turnier-2/
LOCATION:Volleyballfeld Rengetsweiler\, Kirchleäcker\, Meßkirch\, 88605\, Deutschland
END:VEVENT
BEGIN:VEVENT
DTSTART;TZID=Europe/Berlin:20240706T183000
DTEND;TZID=Europe/Berlin:20240707T023000
DTSTAMP:20260421T070049
CREATED:20240505T145545Z
LAST-MODIFIED:20240505T145656Z
UID:4939-1720290600-1720319400@www.rengetsweiler.de
SUMMARY:Rengetsweiler Open Air 2024
DESCRIPTION:Auch dieses Jahr findet wieder unser Rengetsweiler Open Air auf dem Sportgelände Rengetsweiler statt.\n\nLine-Up 2024\nDeltaZero aus GöggingenCrossFire aus RengetsweilerOn Air aus Krumbach\n(Nähere Infos zu den Bands folgen in den nächsten Wochen.)\nKartenvorverkauf\nAuch in diesem Jahr wird wieder einen Kartenvorverkauf für unser Rengetsweiler Open Air angeboten. Der Vorverkaufsstart wird in den nächsten Wochen bekannt gegeben.\nEintrittspreis\nVorverkaufspreis: 8\,00€ (Volksbank Mitglieder 7€) Abendkasse: 10\,00€
URL:https://www.rengetsweiler.de/event/rengetsweiler-open-air-2024/
END:VEVENT
BEGIN:VEVENT
DTSTART;TZID=Europe/Berlin:20240511T173000
DTEND;TZID=Europe/Berlin:20240512T220000
DTSTAMP:20260421T070049
CREATED:20240428T095905Z
LAST-MODIFIED:20240428T175324Z
UID:4927-1715448600-1715551200@www.rengetsweiler.de
SUMMARY:56. Rengetsweiler Waldfest
DESCRIPTION:Wir freuen uns auf Euren Besuch beim 56. Rengetsweiler Waldfest am 11. und 12. Mai 2024\nDieses Jahr gibt es am Samstag Abend wieder unsere traditionelle Lederhosen- und Dirndl-Party. Dieses Jahr unterhalten dabei die Partyband „ATEMLOS“. Mehr Infos zum Samstag findet ihr hier. \nAm Sonnstag starten wir mit unserem Frühschoppen um 11.00 Uhr. Musikalisch unterhalten werdet ihr den ganzen Tag von der Musikkapelle Krauchenwies\, dem Musikverein Sigmaringendorf und der Musikkapelle Wasser. Wie immer ist für das leibliche Wohl bestens gesorgt – von unserem reichhaltigen Mittagstisch über Kaffee und Kuchen bis zum Vesper mit Wurstsalat. Mehr Infos zum Sonntag findet ihr hier. \nWir freuen uns auf Euer Kommen!
URL:https://www.rengetsweiler.de/event/56-rengetsweiler-waldfest/
END:VEVENT
BEGIN:VEVENT
DTSTART;TZID=Europe/Berlin:20240504T080000
DTEND;TZID=Europe/Berlin:20240504T170000
DTSTAMP:20260421T070049
CREATED:20240315T205459Z
LAST-MODIFIED:20240315T205459Z
UID:4805-1714809600-1714842000@www.rengetsweiler.de
SUMMARY:Altpapiersammlung der KLJB Dietershofen Rengetsweiler
DESCRIPTION:
URL:https://www.rengetsweiler.de/event/altpapiersammlung-der-kljb-dietershofen-rengetsweiler-3/
END:VEVENT
BEGIN:VEVENT
DTSTART;TZID=Europe/Berlin:20240430T190000
DTEND;TZID=Europe/Berlin:20240430T220000
DTSTAMP:20260421T070049
CREATED:20240428T095723Z
LAST-MODIFIED:20240428T095723Z
UID:4924-1714503600-1714514400@www.rengetsweiler.de
SUMMARY:Maibaumstellen
DESCRIPTION:Maibaumstellen mit anschließendem gemütlichen Hock im Nebenraum der Randenhalle \nam Dienstag\, 30. April 2024 um 19.00 Uhr \nStellen des Maibaums durch die Freiwillige Feuerwehr Rengetsweiler. Musikalische Umrahmung durch die Rengetsweiler Musikanten. Für das leibliche Wohl mit Essen und Getränken ist gesorgt.
URL:https://www.rengetsweiler.de/event/maibaumstellen-2/
LOCATION:Randenhalle Rengetsweiler\, Oberdorfstraße 1\, Meßkirch\, 88605\, Deutschland
END:VEVENT
BEGIN:VEVENT
DTSTART;TZID=Europe/Berlin:20240418T170700
DTEND;TZID=Europe/Berlin:20240421T170700
DTSTAMP:20260421T070049
CREATED:20240316T103250Z
LAST-MODIFIED:20240408T192516Z
UID:4819-1713460020-1713719220@www.rengetsweiler.de
SUMMARY:72 Stunden Aktion
DESCRIPTION:
URL:https://www.rengetsweiler.de/event/72-stunden-aktion/
END:VEVENT
BEGIN:VEVENT
DTSTART;TZID=Europe/Berlin:20240413T140000
DTEND;TZID=Europe/Berlin:20240413T233000
DTSTAMP:20260421T070049
CREATED:20240315T210131Z
LAST-MODIFIED:20240315T210144Z
UID:4812-1713016800-1713051000@www.rengetsweiler.de
SUMMARY:Anknattern 2024
DESCRIPTION:Die Blue Snakes veranstalten am 13.04.2024 das traditionelle Anknattern – dieses Jahr zum ersten Mal auf dem Sportplatz in Rengetsweiler. \nab 14.00 Uhr\nEintreffen der Oldtimer Mopeds/Mofas und Fassanstich \num 15.00 Uhr\nTraditionelle Knattertour (ca. 20km) mit den Oldtimer Mopeds/Mofas \nab 17.00 Uhr\nKnatterparty für alle mit Bratwurst\, Bier und Bar\nDJ Team Tyre + Specials (u.a. Burnout-Platte) \nEintritt frei + Beheiztes Festzelt + WC
URL:https://www.rengetsweiler.de/event/anknattern-2024/
LOCATION:Sportgelände Rengetsweiler\, Randenstraße 25\, Meßkirch\, Baden-Württemberg\, 88605\, Deutschland
END:VEVENT
BEGIN:VEVENT
DTSTART;TZID=Europe/Berlin:20240210T183000
DTEND;TZID=Europe/Berlin:20240211T020000
DTSTAMP:20260421T070049
CREATED:20240205T210053Z
LAST-MODIFIED:20240205T210303Z
UID:4747-1707589800-1707616800@www.rengetsweiler.de
SUMMARY:Randenball Rengetsweiler
DESCRIPTION:Die Randenmale laden am Fasnets-Samstag in die Randenhalle Rengetsweiler zum Randenball ein.
URL:https://www.rengetsweiler.de/event/randenball-rengetsweiler-2/
LOCATION:Randenhalle Rengetsweiler\, Oberdorfstraße 1\, Meßkirch\, 88605\, Deutschland
END:VEVENT
BEGIN:VEVENT
DTSTART;TZID=Europe/Berlin:20240208T080000
DTEND;TZID=Europe/Berlin:20240208T200000
DTSTAMP:20260421T070049
CREATED:20240205T205912Z
LAST-MODIFIED:20240205T205912Z
UID:4744-1707379200-1707422400@www.rengetsweiler.de
SUMMARY:Schmotziger Dunnstig
DESCRIPTION:Die Randenmale laden am Schmotzige Dunnstig in die Randenhalle Rengetsweiler ein.
URL:https://www.rengetsweiler.de/event/schmotziger-dunnstig/
LOCATION:Randenhalle Rengetsweiler\, Oberdorfstraße 1\, Meßkirch\, 88605\, Deutschland
END:VEVENT
BEGIN:VEVENT
DTSTART;TZID=Europe/Berlin:20231126T110000
DTEND;TZID=Europe/Berlin:20231126T170000
DTSTAMP:20260421T070049
CREATED:20221113T092334Z
LAST-MODIFIED:20231104T090509Z
UID:4008-1700996400-1701018000@www.rengetsweiler.de
SUMMARY:Weihnachtszauber auf dem Walderhof
DESCRIPTION:Wir freuen uns\, Euch zu unserem Weihnachtsmarkt einladen zu dürfen. Genießen Sie das weihnachtliche Flair! \nKulinarisch verwöhnen Sie \n\ndie Randenmale mit Glühwein und Punsch und Waffeln\ndie Landjugend Rengetsweiler mit Würstle und Getränken\ndas Team vom Walderhof mit Kuchen und Pommes\n\nEs erwartet Sie eine große Auswahl an unterschiedlichen Verkaufsständen mit tollen Produkten\, wie \n\nschöne Weihnachtsdeko\nwohltuender Magnetschmuck\nflauschiges Alpakazubehör\nleckere Liköre\nvitale Tiernahrung\nund vieles mehr!\n\nVon 13.00 Uhr bis 14.00 Uhr gibt es Ponyreiten für die Kinder. Und um 14.15 Uhr kommt der Nikolaus zu Besuch. \nWir freuen uns auf Ihren Besuch!
URL:https://www.rengetsweiler.de/event/weihnachtsmarkt-auf-dem-walderhof/
LOCATION:Walderhof Rengetsweiler\, Waldergasse 15\, Meßkirch\, 88605\, Deutschland
ATTACH;FMTTYPE=image/jpeg:https://www.rengetsweiler.de/wp-content/uploads/2022/11/P9A8186-2.jpg
END:VEVENT
BEGIN:VEVENT
DTSTART;TZID=Europe/Berlin:20230730T143000
DTEND;TZID=Europe/Berlin:20230730T200000
DTSTAMP:20260421T070049
CREATED:20230717T201502Z
LAST-MODIFIED:20230717T201502Z
UID:4464-1690727400-1690747200@www.rengetsweiler.de
SUMMARY:Volleyball-Turnier
DESCRIPTION:
URL:https://www.rengetsweiler.de/event/volleyball-turnier/
LOCATION:Volleyballfeld Rengetsweiler\, Kirchleäcker\, Meßkirch\, 88605\, Deutschland
END:VEVENT
BEGIN:VEVENT
DTSTART;TZID=Europe/Berlin:20230708T170000
DTEND;TZID=Europe/Berlin:20230708T220000
DTSTAMP:20260421T070049
CREATED:20230607T062004Z
LAST-MODIFIED:20230607T062055Z
UID:4424-1688835600-1688853600@www.rengetsweiler.de
SUMMARY:Elfmeter-Turnier
DESCRIPTION:Der FV WaRe veranstaltet auch dieses Jahr wieder sein Elfmeterturnier. Eingeladen sind alle Vereins-\, Hobby-\, Firmen-\, Stammtisch-\, Eltern- und sonstige Teams! \nInfos und Anmeldung: http://www.fvware.de
URL:https://www.rengetsweiler.de/event/elfmeter-turnier-2/
ATTACH;FMTTYPE=image/jpeg:https://www.rengetsweiler.de/wp-content/uploads/2022/04/Sportplatz.jpg
END:VEVENT
END:VCALENDAR