BEGIN:VCALENDAR
VERSION:2.0
PRODID:-//Rengetsweiler - ECPv6.15.20//NONSGML v1.0//EN
CALSCALE:GREGORIAN
METHOD:PUBLISH
X-WR-CALNAME:Rengetsweiler
X-ORIGINAL-URL:https://www.rengetsweiler.de
X-WR-CALDESC:Veranstaltungen für Rengetsweiler
REFRESH-INTERVAL;VALUE=DURATION:PT1H
X-Robots-Tag:noindex
X-PUBLISHED-TTL:PT1H
BEGIN:VTIMEZONE
TZID:Europe/Berlin
BEGIN:DAYLIGHT
TZOFFSETFROM:+0100
TZOFFSETTO:+0200
TZNAME:CEST
DTSTART:20200329T010000
END:DAYLIGHT
BEGIN:STANDARD
TZOFFSETFROM:+0200
TZOFFSETTO:+0100
TZNAME:CET
DTSTART:20201025T010000
END:STANDARD
BEGIN:DAYLIGHT
TZOFFSETFROM:+0100
TZOFFSETTO:+0200
TZNAME:CEST
DTSTART:20210328T010000
END:DAYLIGHT
BEGIN:STANDARD
TZOFFSETFROM:+0200
TZOFFSETTO:+0100
TZNAME:CET
DTSTART:20211031T010000
END:STANDARD
BEGIN:DAYLIGHT
TZOFFSETFROM:+0100
TZOFFSETTO:+0200
TZNAME:CEST
DTSTART:20220327T010000
END:DAYLIGHT
BEGIN:STANDARD
TZOFFSETFROM:+0200
TZOFFSETTO:+0100
TZNAME:CET
DTSTART:20221030T010000
END:STANDARD
END:VTIMEZONE
BEGIN:VEVENT
DTSTART;TZID=Europe/Berlin:20210717T180000
DTEND;TZID=Europe/Berlin:20210718T010000
DTSTAMP:20260423T194415
CREATED:20210708T180014Z
LAST-MODIFIED:20210708T181043Z
UID:3138-1626544800-1626570000@www.rengetsweiler.de
SUMMARY:Rengetsweiler Open Air 2021
DESCRIPTION:Man kann es kaum glauben aber endlich ist es wieder soweit\, am 17. Juli 2021 feiern wir unser Rengetsweiler Open Air 2021. Mit DJ Team Tyre könnt Ihr euren Alltagstress für einen Abend vergessen und gemeinsam mit uns feiern. \nTickets gibt es nur online:\nhttps://www.eventim-light.com/de/a/60e2dd89542aaa2ac817d04f/e/60e2f07e7239c55e631da190/ \nEine Abendkasse wird vorerst nicht angeboten. \nWelche Regeln gelten?\n\nMax. 299Tickets werden verkauft. Die Karten können nur Online erworben werden. Nach Bestellung werden die Tickets per Mail an Euch zugeschickt.\nEs gilt die 3G-Regel (Geimpft/Genesen/Getestet). Bringt also einen Nachweis und euren Personalausweis mit! 💉📄\nEs gilt keine Mundschutzpflicht!\nEinlass ab 18.00Uhr.\nIn den WC-Anlagen gilt Mundschutzpflicht!\nWeitere Hygieneregeln zum nachlesen in unserem Hygienekonzept vor Ort direkt am Eingang.\n\nWir freuen uns mega auf Euch!
URL:https://www.rengetsweiler.de/event/rengetsweiler-open-air-2021/
LOCATION:Sportgelände Rengetsweiler\, Randenstraße 25\, Meßkirch\, Baden-Württemberg\, 88605\, Deutschland
ATTACH;FMTTYPE=image/png:https://www.rengetsweiler.de/wp-content/uploads/2021/07/open_air.png
END:VEVENT
END:VCALENDAR